BEGIN:VCALENDAR
VERSION:2.0
PRODID:-//wp-events-plugin.com//7.2.3.1//EN
TZID:Europe/Paris
X-WR-TIMEZONE:Europe/Paris
BEGIN:VEVENT
UID:10@boutique.genealogiemagazine.com
DTSTART;TZID=Europe/Paris:20260426T100000
DTEND;TZID=Europe/Paris:20260426T180000
DTSTAMP:20260425T091059Z
URL:https://www.boutique.genealogiemagazine.com/agenda/22e-salon-de-lediti
 on-historique-regionale-et-de-la-genealogie-de-gravelines-59/
SUMMARY:22e salon de l'édition historique régionale et de la Généalogie
  de Gravelines (59)
DESCRIPTION:22e salon de l'édition historique régionale et de la Généal
 ogie\, le dimanche 26 avril 2026 à la salle de la Scène Vauban de Gravel
 ines (59).
ATTACH;FMTTYPE=image/jpeg:https://www.boutique.genealogiemagazine.com/wp-c
 ontent/uploads/2026/04/affiche-gravelines.png
CATEGORIES:Salons - Rencontres
LOCATION:Scène Vauban\, Gravelines\, 59820\, France
GEO:50.982093;2.153639
X-APPLE-STRUCTURED-LOCATION;VALUE=URI;X-ADDRESS=Gravelines\, 59820\, France
 ;X-APPLE-RADIUS=100;X-TITLE=Scène Vauban:geo:50.982093,2.153639
END:VEVENT
BEGIN:VTIMEZONE
TZID:Europe/Paris
X-LIC-LOCATION:Europe/Paris
BEGIN:DAYLIGHT
DTSTART:20260329T030000
TZOFFSETFROM:+0100
TZOFFSETTO:+0200
TZNAME:CEST
END:DAYLIGHT
END:VTIMEZONE
END:VCALENDAR