BEGIN:VCALENDAR
VERSION:2.0
PRODID:-//wp-events-plugin.com//7.2.3.1//EN
TZID:Europe/Paris
X-WR-TIMEZONE:Europe/Paris
BEGIN:VEVENT
UID:9@boutique.genealogiemagazine.com
DTSTART;TZID=Europe/Paris:20260521T140000
DTEND;TZID=Europe/Paris:20260521T180000
DTSTAMP:20260425T085627Z
URL:https://www.boutique.genealogiemagazine.com/agenda/atelier-tables-des-
 successions-registres-des-notaires-archives-des-juridictions/
SUMMARY:Atelier tables des successions\, registres des notaires\, archives 
 des juridictions
DESCRIPTION:Atelier tables des successions\, registres des notaires\, archi
 ves des juridictions
ATTACH;FMTTYPE=image/jpeg:https://www.boutique.genealogiemagazine.com/wp-c
 ontent/uploads/2026/04/ateliers35.jpg
CATEGORIES:Cours
LOCATION:Cercle Généalogique d'Ille-et-Vilaine\, 18 bis rue Frédéric Mi
 stral\, Rennes\, 35200\, France
GEO:48.091659;-1.657348
X-APPLE-STRUCTURED-LOCATION;VALUE=URI;X-ADDRESS=18 bis rue Frédéric Mistr
 al\, Rennes\, 35200\, France;X-APPLE-RADIUS=100;X-TITLE=Cercle Généalogi
 que d'Ille-et-Vilaine:geo:48.091659,-1.657348
END:VEVENT
BEGIN:VTIMEZONE
TZID:Europe/Paris
X-LIC-LOCATION:Europe/Paris
BEGIN:DAYLIGHT
DTSTART:20260329T030000
TZOFFSETFROM:+0100
TZOFFSETTO:+0200
TZNAME:CEST
END:DAYLIGHT
END:VTIMEZONE
END:VCALENDAR