BEGIN:VCALENDAR
VERSION:2.0
PRODID:-//wp-events-plugin.com//7.2.3.1//EN
TZID:Europe/Paris
X-WR-TIMEZONE:Europe/Paris
BEGIN:VEVENT
UID:11@boutique.genealogiemagazine.com
DTSTART;TZID=Europe/Paris:20260521T150000
DTEND;TZID=Europe/Paris:20260521T180000
DTSTAMP:20260425T090820Z
URL:https://www.boutique.genealogiemagazine.com/agenda/conference-aux-arch
 ives-de-paris-les-archives-de-la-sncf-quelles-ressources-disponibles/
SUMMARY:Conférence  aux archives de Paris - Les archives de la SNCF - Quel
 les ressources disponibles ?
DESCRIPTION:Les archives SNCF couvrent l’histoire des chemins de fer en F
 rance depuis les premières conventions\, de la création du réseau jusqu
 ’à nos jours.
ATTACH;FMTTYPE=image/jpeg:https://www.boutique.genealogiemagazine.com/wp-c
 ontent/uploads/2026/04/Lafrancegenealogique.png
CATEGORIES:Conférences
LOCATION:Archives de Paris\, 18 boulevard Sérurier\, Paris\, 75019\, Franc
 e
GEO:48.878503;2.406376
X-APPLE-STRUCTURED-LOCATION;VALUE=URI;X-ADDRESS=18 boulevard Sérurier\, Pa
 ris\, 75019\, France;X-APPLE-RADIUS=100;X-TITLE=Archives de Paris:geo:48.8
 78503,2.406376
END:VEVENT
BEGIN:VTIMEZONE
TZID:Europe/Paris
X-LIC-LOCATION:Europe/Paris
BEGIN:DAYLIGHT
DTSTART:20260329T030000
TZOFFSETFROM:+0100
TZOFFSETTO:+0200
TZNAME:CEST
END:DAYLIGHT
END:VTIMEZONE
END:VCALENDAR