BEGIN:VCALENDAR
VERSION:2.0
PRODID:-//wp-events-plugin.com//7.2.3.1//EN
TZID:Europe/Paris
X-WR-TIMEZONE:Europe/Paris
BEGIN:VEVENT
UID:2@boutique.genealogiemagazine.com
DTSTART;TZID=Europe/Paris:20260425T100000
DTEND;TZID=Europe/Paris:20260426T180000
DTSTAMP:20260423T095717Z
URL:https://www.boutique.genealogiemagazine.com/agenda/exposition-genealog
 ique-montargis-45/
SUMMARY:Exposition Généalogique – Montargis (45)
DESCRIPTION:Les 25\, 26 et 27 avril 2026 de 10 heures à 18 heures\, une ex
 position généalogique sur le thème « Le Gâtinais gallo-romain » sera
  présentée au local de l’Association GATINAIS GENEALOGIQUE.
ATTACH;FMTTYPE=image/jpeg:https://www.boutique.genealogiemagazine.com/wp-c
 ontent/uploads/2026/03/Affiche-Exposition-genealogique-sur-quotLe-Gatinais
 -gallo-romainquot-scaled.jpg
CATEGORIES:Portes ouvertes
LOCATION:Locaux de l’Association Gâtinais Généalogique\, 3 rue du Cana
 l \, Montargis\, 45200\, France
X-APPLE-STRUCTURED-LOCATION;VALUE=URI;X-ADDRESS=3 rue du Canal \, Montargis
 \, 45200\, France;X-APPLE-RADIUS=100;X-TITLE=Locaux de l’Association Gâ
 tinais Généalogique:geo:0,0
END:VEVENT
BEGIN:VTIMEZONE
TZID:Europe/Paris
X-LIC-LOCATION:Europe/Paris
BEGIN:DAYLIGHT
DTSTART:20260329T030000
TZOFFSETFROM:+0100
TZOFFSETTO:+0200
TZNAME:CEST
END:DAYLIGHT
END:VTIMEZONE
END:VCALENDAR