BEGIN:VCALENDAR
VERSION:2.0
PRODID:-//wp-events-plugin.com//7.2.3.1//EN
TZID:Europe/Paris
X-WR-TIMEZONE:Europe/Paris
BEGIN:VEVENT
UID:6@boutique.genealogiemagazine.com
DTSTART;TZID=Europe/Paris:20260606T000000
DTEND;TZID=Europe/Paris:20260607T000000
DTSTAMP:20260423T152729Z
URL:https://www.boutique.genealogiemagazine.com/agenda/genealogie-pour-tou
 s-lorient-56/
SUMMARY:Généalogie pour tous – Lorient (56)
DESCRIPTION:Dans le vaste espace du Parc des expositions de Lorient\, facil
 ement accessible\, les visiteurs pourront rencontrer 70 exposants venus de
  toute la France\, assister à 20 conférences\, découvrir deux expositio
 ns\, et trouver toutes les informations nécessaires pour bien débuter ou
  enrichir leurs recherches généalogiques.\n\nEn raison de l’histoire m
 aritime de Lorient et de sa région\, le salon aura pour thème la Mer et 
 les marins. Il est labellisé “400 ans de la Marine nationale”\, qui f
 êtera son anniversaire en 2026. Sans l’impulsion décisive de Richelieu
 \, puis de Colbert\, il serait aujourd’hui bien difficile de reconstitue
 r les carrières de nos ancêtres marins\, qu’elles soient militaires ou
  civiles.
ATTACH;FMTTYPE=image/jpeg:https://www.boutique.genealogiemagazine.com/wp-c
 ontent/uploads/2026/04/Affiche-lorient.png
CATEGORIES:Salons - Rencontres
LOCATION:Parc des expositions de Lorient\, 286 Rue Rouget de Lisle\, Lanest
 er\, 56600\, France
X-APPLE-STRUCTURED-LOCATION;VALUE=URI;X-ADDRESS=286 Rue Rouget de Lisle\, L
 anester\, 56600\, France;X-APPLE-RADIUS=100;X-TITLE=Parc des expositions d
 e Lorient:geo:0,0
END:VEVENT
BEGIN:VTIMEZONE
TZID:Europe/Paris
X-LIC-LOCATION:Europe/Paris
BEGIN:DAYLIGHT
DTSTART:20260329T030000
TZOFFSETFROM:+0100
TZOFFSETTO:+0200
TZNAME:CEST
END:DAYLIGHT
END:VTIMEZONE
END:VCALENDAR