BEGIN:VCALENDAR
VERSION:2.0
PRODID:-//wp-events-plugin.com//7.2.3.1//EN
TZID:Europe/Paris
X-WR-TIMEZONE:Europe/Paris
BEGIN:VEVENT
UID:4@boutique.genealogiemagazine.com
DTSTART;TZID=Europe/Paris:20260425T000000
DTEND;TZID=Europe/Paris:20260426T000000
DTSTAMP:20260423T185125Z
URL:https://www.boutique.genealogiemagazine.com/agenda/journees-genealogiq
 ues-retour-aux-sources-sponville-54/
SUMMARY:Journées généalogiques “Retour aux sources” – Sponville (5
 4)
DESCRIPTION:Organisées en partenariat avec les mairies de Sponville et Xon
 ville.
ATTACH;FMTTYPE=image/jpeg:https://www.boutique.genealogiemagazine.com/wp-c
 ontent/uploads/2026/04/affiche-Sponville.jpg
CATEGORIES:Portes ouvertes
LOCATION:Salle des fêtes de Sponville\, 21\, rue Notre-Dame\, Sponville\, 
 54800\, France
GEO:49.073074;5.830593
X-APPLE-STRUCTURED-LOCATION;VALUE=URI;X-ADDRESS=21\, rue Notre-Dame\, Sponv
 ille\, 54800\, France;X-APPLE-RADIUS=100;X-TITLE=Salle des fêtes de Sponv
 ille:geo:49.073074,5.830593
END:VEVENT
BEGIN:VTIMEZONE
TZID:Europe/Paris
X-LIC-LOCATION:Europe/Paris
BEGIN:DAYLIGHT
DTSTART:20260329T030000
TZOFFSETFROM:+0100
TZOFFSETTO:+0200
TZNAME:CEST
END:DAYLIGHT
END:VTIMEZONE
END:VCALENDAR