BEGIN:VCALENDAR
VERSION:2.0
PRODID:-//wp-events-plugin.com//7.2.3.1//EN
TZID:Europe/Paris
X-WR-TIMEZONE:Europe/Paris
BEGIN:VEVENT
UID:5@boutique.genealogiemagazine.com
DTSTART;TZID=Europe/Paris:20260530T000000
DTEND;TZID=Europe/Paris:20260531T000000
DTSTAMP:20260423T141423Z
URL:https://www.boutique.genealogiemagazine.com/agenda/salon-de-la-genealo
 gie-lamalou-les-bains-34/
SUMMARY:Salon de la Généalogie – Lamalou les Bains (34)
DESCRIPTION:Premier Salon de la Généalogie à Lamalou les Bains. Sur plac
 e\, dans la salle des fêtes : Des cercles de généalogie\, des généalo
 gistes professionnels. Des conférences\, des animations pour enfants auto
 ur des racines familiales. Buvette sucrée-salée associative. Restauratio
 n sur place pour les exposants.
ATTACH;FMTTYPE=image/jpeg:https://www.boutique.genealogiemagazine.com/wp-c
 ontent/uploads/2026/04/Affiche-Lamalou.jpg
LOCATION:Salle des fêtes Lamalou\, Place du Casino\, Lamalou les Bains\, 3
 4320\, France
X-APPLE-STRUCTURED-LOCATION;VALUE=URI;X-ADDRESS=Place du Casino\, Lamalou l
 es Bains\, 34320\, France;X-APPLE-RADIUS=100;X-TITLE=Salle des fêtes Lama
 lou:geo:0,0
END:VEVENT
BEGIN:VTIMEZONE
TZID:Europe/Paris
X-LIC-LOCATION:Europe/Paris
BEGIN:DAYLIGHT
DTSTART:20260329T030000
TZOFFSETFROM:+0100
TZOFFSETTO:+0200
TZNAME:CEST
END:DAYLIGHT
END:VTIMEZONE
END:VCALENDAR