BEGIN:VCALENDAR
VERSION:2.0
PRODID:-//wp-events-plugin.com//7.2.3.1//EN
TZID:Europe/Paris
X-WR-TIMEZONE:Europe/Paris
BEGIN:VEVENT
UID:7@boutique.genealogiemagazine.com
DTSTART;TZID=Europe/Paris:20261017T000000
DTEND;TZID=Europe/Paris:20261018T000000
DTSTAMP:20260423T184532Z
URL:https://www.boutique.genealogiemagazine.com/agenda/salon-de-la-genealo
 gie-plerin-22/
SUMMARY:Salon de la Généalogie - Plérin (22)
DESCRIPTION:A l’occasion de ses 40 ans\, le Centre Généalogique des Cô
 tes d’Armor organise son salon de Généalogie et du Patrimoine les 17 e
 t 18 octobre 2026 à Plérin\, aux portes de St Brieuc.
ATTACH;FMTTYPE=image/jpeg:https://www.boutique.genealogiemagazine.com/wp-c
 ontent/uploads/2026/04/Affiche-CG22-plerin-17-18-octobre.jpg
CATEGORIES:Salons - Rencontres
LOCATION:Espace Roger OLLIVIER\, 13 Rue du Stade \, Plerin\, 22190\, France
GEO:48.539917;-2.755663
X-APPLE-STRUCTURED-LOCATION;VALUE=URI;X-ADDRESS=13 Rue du Stade \, Plerin\,
  22190\, France;X-APPLE-RADIUS=100;X-TITLE=Espace Roger OLLIVIER:geo:48.53
 9917,-2.755663
END:VEVENT
BEGIN:VTIMEZONE
TZID:Europe/Paris
X-LIC-LOCATION:Europe/Paris
BEGIN:DAYLIGHT
DTSTART:20260329T030000
TZOFFSETFROM:+0100
TZOFFSETTO:+0200
TZNAME:CEST
END:DAYLIGHT
END:VTIMEZONE
END:VCALENDAR