BEGIN:VCALENDAR
VERSION:2.0
PRODID:-//wp-events-plugin.com//7.2.3.1//EN
TZID:Europe/Paris
X-WR-TIMEZONE:Europe/Paris
BEGIN:VEVENT
UID:3@boutique.genealogiemagazine.com
DTSTART;TZID=Europe/Paris:20261114T150000
DTEND;TZID=Europe/Paris:20261114T180000
DTSTAMP:20260423T102703Z
URL:https://www.boutique.genealogiemagazine.com/agenda/spectacle-la-memoir
 e-en-heritage-le-fil-invisible-le-14-novembre-2026-a-bruley-54/
SUMMARY:Spectacle La mémoire en héritage - Le fil invisible le 14 novembr
 e 2026 à Bruley (54)
DESCRIPTION:Avec « La Mémoire en Héritage – Le Fil Invisible »\, ce s
 pectacle seul en scène propose une expérience immersive et profondément
  humaine : raconter\, incarner et faire ressentir quatre siècles d’hist
 oire familiale à partir d’une lignée authentique.
ATTACH;FMTTYPE=image/jpeg:https://www.boutique.genealogiemagazine.com/wp-c
 ontent/uploads/2026/04/La-memoire-en-heritage-a-Bruley.png
CATEGORIES:Spectacle
LOCATION:salle culturelle de Bruley\, Bruley\, 54\, France
X-APPLE-STRUCTURED-LOCATION;VALUE=URI;X-ADDRESS=Bruley\, 54\, France;X-APPL
 E-RADIUS=100;X-TITLE=salle culturelle de Bruley:geo:0,0
END:VEVENT
BEGIN:VTIMEZONE
TZID:Europe/Paris
X-LIC-LOCATION:Europe/Paris
BEGIN:STANDARD
DTSTART:20261025T020000
TZOFFSETFROM:+0200
TZOFFSETTO:+0100
TZNAME:CET
END:STANDARD
END:VTIMEZONE
END:VCALENDAR