BEGIN:VCALENDAR
VERSION:2.0
PRODID:-//wp-events-plugin.com//7.2.3.1//EN
TZID:Europe/Paris
X-WR-TIMEZONE:Europe/Paris
BEGIN:VEVENT
UID:1@boutique.genealogiemagazine.com
DTSTART;TZID=Europe/Paris:20260425T100000
DTEND;TZID=Europe/Paris:20260426T180000
DTSTAMP:20260423T115949Z
URL:https://www.boutique.genealogiemagazine.com/agenda/weekend-genealogiqu
 e-st-georges-des-coteaux-17/
SUMMARY:Weekend généalogique – St Georges des Coteaux (17)
DESCRIPTION:Généalogie Entraide et Astuces (GEA17) organise son 3ème Wee
 k-End Généalogique à St Georges-des-Coteaux (17810).\n\nProgramme des c
 onférences :\n• Samedi 11h/12h – Christian PARTOUCHE\, Membre de l’
 Association GEA17\n« Un Flibustier\, mon ancêtre Jacques Picard »\nMon 
 ancêtre Jacques Picard\, un flibustier\, a appartenu à deux équipages :
  celui du capitaine Desmarets et celui du célèbre capitaine Henry Every\
 , dit Long Ben. À travers les aventures de cet aïeul\, le mode de vie et
  l’odyssée de ces pirates seront développés.\n• Samedi 14h/15h – 
 Patricia MACHET (Recherche Ancêtres) Généalogiste professionnelle\n« G
 énéalogie 4.0 : l’intelligence artificielle au service des généalogi
 stes »\nCette présentation vise à démystifier le jargon de l’intelli
 gence artificielle et à explorer les apports des nouvelles technologies p
 our les généalogistes. À partir d’exemples de projets innovants\, nou
 s découvrirons comment l’IA révolutionne la pratique de la généalogi
 e. Nous évaluerons les impacts bénéfiques pour les généalogistes\, d
 écrypterons les acronymes (IA\, HTC\, OCR…) et expliquerons les techniq
 ues sous-jacentes. Nous verronségalement ce que l’IA ne fait pas…\n
 • Samedi 16h/17h – Bernard VIALETTES\, Adhérent et Membre du CA\n« P
 arcours exceptionnel d’un Officier du Second Empire »\nUne carrière mi
 litaire pleine de rebondissements et d’événements inattendus au cœur 
 de l’histoire du XIXIème siècle.\n\n• Dimanche 11h/12h – Éric MUL
 LER\, Adhérent et Membre du CA\n« Parcours de bagnards : Siméon Renaud 
 et Louis Sallaud »\nDeux parcours de vie surprenants !\n• Dimanche 14h/
 15h – Brigitte GUEBELS\, Généalogiste professionnelle\n« ADN et Gén
 éalogie : quand la science raconte nos origines »\nÀ la croisée de la 
 biologie et de la généalogie traditionnelle\, l’ADN ouvre de nouvelles
  portes pour comprendre nos origines. Cette conférence explore comment le
 s tests génétiques complètent – et parfois bousculent – les lignée
 s officielles\, révélant des histoires familiales insoupçonnées.\n• 
 Dimanche 16h/17h – Alain CLISSON\, Animateur conférencier / Roland BLAN
 C\, AMACADIE\n« Un Saintongeais en Nouvelle-France »\nLe destin de Pierr
 e RICHARD\, migrant de St Georges-des-Coteaux au Canada en 1670\, immergé
  dans tous les problèmes de l’époque.\n\nExpositions :\n• « L’ép
 opée française de l’Acadie »\nHistoire de l’Acadie retraçant le de
 stin français (Association AMACADIE)\n• « Souviens-toi de nous » Les 
 Poilus 14-18\nPrésentée et préparée par Généalogie Entraide &amp\; A
 stuces\, avec la participation des enfants de l’école CM1/CM2 de St-Geo
 rges-des-Coteaux\n• Parcours exceptionnel « Rosalie une ancêtre esclav
 e\, François Mérand Picard\, un ancien maître à La Réunion »\nPrése
 nté et préparé par C. Partouche
ATTACH;FMTTYPE=image/jpeg:https://www.boutique.genealogiemagazine.com/wp-c
 ontent/uploads/2026/01/2026-01-01-genealogie-Aff-2026.jpg
CATEGORIES:Salons - Rencontres
LOCATION:Espace Multipôles St Georges des Coteaux\, 9 Rue du Parc\, Saint 
 Georges des Coteaux\, 17810\, France
X-APPLE-STRUCTURED-LOCATION;VALUE=URI;X-ADDRESS=9 Rue du Parc\, Saint Georg
 es des Coteaux\, 17810\, France;X-APPLE-RADIUS=100;X-TITLE=Espace Multipô
 les St Georges des Coteaux:geo:0,0
END:VEVENT
BEGIN:VTIMEZONE
TZID:Europe/Paris
X-LIC-LOCATION:Europe/Paris
BEGIN:DAYLIGHT
DTSTART:20260329T030000
TZOFFSETFROM:+0100
TZOFFSETTO:+0200
TZNAME:CEST
END:DAYLIGHT
END:VTIMEZONE
END:VCALENDAR